
BEGIN:VCALENDAR
VERSION:2.0
PRODID:-//NCAHCSP - ECPv6.15.20//NONSGML v1.0//EN
CALSCALE:GREGORIAN
METHOD:PUBLISH
X-WR-CALNAME:NCAHCSP
X-ORIGINAL-URL:https://www.ncahcsp.org
X-WR-CALDESC:Events for NCAHCSP
REFRESH-INTERVAL;VALUE=DURATION:PT1H
X-Robots-Tag:noindex
X-PUBLISHED-TTL:PT1H
BEGIN:VTIMEZONE
TZID:America/New_York
BEGIN:DAYLIGHT
TZOFFSETFROM:-0500
TZOFFSETTO:-0400
TZNAME:EDT
DTSTART:20220313T070000
END:DAYLIGHT
BEGIN:STANDARD
TZOFFSETFROM:-0400
TZOFFSETTO:-0500
TZNAME:EST
DTSTART:20221106T060000
END:STANDARD
BEGIN:DAYLIGHT
TZOFFSETFROM:-0500
TZOFFSETTO:-0400
TZNAME:EDT
DTSTART:20230312T070000
END:DAYLIGHT
BEGIN:STANDARD
TZOFFSETFROM:-0400
TZOFFSETTO:-0500
TZNAME:EST
DTSTART:20231105T060000
END:STANDARD
BEGIN:DAYLIGHT
TZOFFSETFROM:-0500
TZOFFSETTO:-0400
TZNAME:EDT
DTSTART:20240310T070000
END:DAYLIGHT
BEGIN:STANDARD
TZOFFSETFROM:-0400
TZOFFSETTO:-0500
TZNAME:EST
DTSTART:20241103T060000
END:STANDARD
BEGIN:DAYLIGHT
TZOFFSETFROM:-0500
TZOFFSETTO:-0400
TZNAME:EDT
DTSTART:20250309T070000
END:DAYLIGHT
BEGIN:STANDARD
TZOFFSETFROM:-0400
TZOFFSETTO:-0500
TZNAME:EST
DTSTART:20251102T060000
END:STANDARD
BEGIN:DAYLIGHT
TZOFFSETFROM:-0500
TZOFFSETTO:-0400
TZNAME:EDT
DTSTART:20260308T070000
END:DAYLIGHT
BEGIN:STANDARD
TZOFFSETFROM:-0400
TZOFFSETTO:-0500
TZNAME:EST
DTSTART:20261101T060000
END:STANDARD
END:VTIMEZONE
BEGIN:VEVENT
DTSTART;TZID=America/New_York:20251108T120000
DTEND;TZID=America/New_York:20251108T173000
DTSTAMP:20260421T082047
CREATED:20251008T011753Z
LAST-MODIFIED:20251008T011753Z
UID:1215-1762603200-1762623000@www.ncahcsp.org
SUMMARY:NCAHCSP 2025 Fall Meeting
DESCRIPTION:
URL:https://www.ncahcsp.org/event/ncahcsp-2025-fall-meeting/
LOCATION:Atrium Health Airport Center Building K\, Charlotte NC\, 5039 Airport Center Parkway\, Charlotte\, NC\, 28208\, United States
END:VEVENT
BEGIN:VEVENT
DTSTART;TZID=America/New_York:20250503T090000
DTEND;TZID=America/New_York:20250503T153000
DTSTAMP:20260421T082047
CREATED:20250331T025909Z
LAST-MODIFIED:20250331T031106Z
UID:1175-1746262800-1746286200@www.ncahcsp.org
SUMMARY:May 3rd NCAHCSP Educational Meeting and Vendor Show
DESCRIPTION:ANNOUNCING Clean to Pristine in the Queen City Spring Vendor and Education Fair \nCome and join us for this educational event providing 4 CEUs with vendor show on Saturday May 3\, 2025. \nEvent will be from 9:00 am – 3:30 pm in Charlotte\, NC. \nPre-registration can be sent to Sacha Galloway at sgalloway.ncahcsp@gmail.com \nIn-person registration will start at 8:00 am. \nThere will be a vendor fair from 1:00 -3:00 pm. \nCONTEST: Create Your Own Gown \nDesign your own gown and bring it to the meeting for your chance to win a prize. \nAddress: Atrium Health Education Center \n5039 Airport Center Parkway Building K \nCharlotte\, NC 28232 \nCome join us for this educational event with great food and networking. You do not want to miss it!! \nMeeting Flier  \nGown Contest Brochure
URL:https://www.ncahcsp.org/event/may-3rd-ncahcsp-educational-meeting-and-vendor-show/
LOCATION:Atrium Health Airport Center Building K\, Charlotte NC\, 5039 Airport Center Parkway\, Charlotte\, NC\, 28208\, United States
END:VEVENT
BEGIN:VEVENT
DTSTART;TZID=America/New_York:20250503T083000
DTEND;TZID=America/New_York:20250503T150000
DTSTAMP:20260421T082047
CREATED:20250313T004023Z
LAST-MODIFIED:20250313T005658Z
UID:1162-1746261000-1746284400@www.ncahcsp.org
SUMMARY:SAVE THE DATE! SATURDAY MAY 3RD\, 2025 CHARLOTTE\, NC
DESCRIPTION:Saturday May 3\, 2025 \n2025 Educational Meeting with vendor show. \nLocation: Atrium Health Airport Center\, Charlotte NC \n4 CEU’s\, Networking\, Vendor Show!! More information to come.
URL:https://www.ncahcsp.org/event/save-the-date-ncahcsp-meeting-saturday-may-3rd-2025/
LOCATION:Atrium Health Airport Center Building K\, Charlotte NC\, 5039 Airport Center Parkway\, Charlotte\, NC\, 28208\, United States
END:VEVENT
BEGIN:VEVENT
DTSTART;TZID=America/New_York:20250330T080000
DTEND;TZID=America/New_York:20250330T170000
DTSTAMP:20260421T082047
CREATED:20250331T032901Z
LAST-MODIFIED:20250331T032901Z
UID:1184-1743321600-1743354000@www.ncahcsp.org
SUMMARY:May 3\, 2025 NCAHCSP Design a PPE Gown Contest! Sponsored by Solventum
DESCRIPTION:Come join us for the NCAHCSP Spring Educational Event with Vendor Show. Clean to Pristine in the Queen City!! Location Charlotte\, NC \nNCAHCSP invites you to participate in the Sterile Processing PPE gown design contest! This is your chance to showcase your creativity!! Design a fashionable PPE gown and bring it to the NCAHCSP spring meeting for your chance to win a prize!! Thank you Solventum for sponsoring this contest\, it is sure to be fun!! \n4 CEUs\, good food\, networking….. \nMay 3rd\, 2025 \nAtrium Health Education Center \n5039 Airport Center Parkway Building K \nCharlotte\, NC 28232 \nGown Contest Brochure
URL:https://www.ncahcsp.org/event/may-3-2025-ncahcsp-design-a-ppe-gown-contest-sponsored-by-solventum/
LOCATION:NC
END:VEVENT
BEGIN:VEVENT
DTSTART;TZID=America/New_York:20240927T130000
DTEND;TZID=America/New_York:20240929T140000
DTSTAMP:20260421T082047
CREATED:20240711T135810Z
LAST-MODIFIED:20240711T135810Z
UID:1044-1727442000-1727618400@www.ncahcsp.org
SUMMARY:2024 NCAHCSP Annual Meeting
DESCRIPTION:2024 NCAHCSP Flyer \n2024_Registration Form \nVendor Letter 2024 \nThe North Carolina Association for Hospital Central Service Professionals (NCAHCSP) will hold its annual seminar on September 27 – 29\, 2024 at the Courtyard Carolina Beach Oceanfront located in Carolina Beach\, N.C. The address is 100 Charlotte Avenue\, Carolina Beach\, N.C. 28428. The NCAHCSP is a non-profit organization. This meeting will include an vendor exhibit feature on Saturday September 28\, 2024. \nHotel Booking Information for 2024 NCAHCSP Annual Meeting \nCourtyard Carolina Beach Oceanfront at Carolina Beach \n  \nDiscounted hotel rate for NCAHCSP block of rooms:  $195 USD per night plus taxes \nNights available at this price: \n  \nFriday September 27\, 2024\, and Saturday September 28\, 2024 \n  \nLast day to book rooms at discounted rate: August 26\, 2024 \n  \n2 ways to book rooms: \n  \nCall Hotel #910-458-2030 – group code ACHN (use to get discount) \n  \nor \n                                                                 Book your group rate for NCAHCSP 2024 Meeting  \n 
URL:https://www.ncahcsp.org/event/2024-ncahcsp-annual-meeting/
LOCATION:Courtyard Marriott Carolina Beach Oceanfront\, 100 Charlotte Avenue\, Carolina Beach\, NC\, United States
END:VEVENT
BEGIN:VEVENT
DTSTART;TZID=America/New_York:20240302T110000
DTEND;TZID=America/New_York:20240302T143000
DTSTAMP:20260421T082047
CREATED:20240218T034635Z
LAST-MODIFIED:20240218T035008Z
UID:978-1709377200-1709389800@www.ncahcsp.org
SUMMARY:Unlock Your Skills - A Virtual Event
DESCRIPTION:A FREE HSPA Virtual Chapter Event!! Unlock Your Skills. March 2nd\, 2024 from 11:00 am – 2:30 pm. Please click the link and register. 3 FREE CE’s from HSPA or CBSD. Please take advantage of this educational event that offers education for SPS professionals\, networking\, and giveaways. You will not be disappointed.
URL:https://www.ncahcsp.org/event/unlock-your-skills-a-virtual-event/
LOCATION:NC
END:VEVENT
BEGIN:VEVENT
DTSTART;TZID=America/New_York:20230416T120000
DTEND;TZID=America/New_York:20230418T143000
DTSTAMP:20260421T082047
CREATED:20230416T124043Z
LAST-MODIFIED:20230416T124349Z
UID:970-1681646400-1681828200@www.ncahcsp.org
SUMMARY:2023 NCAHCSP Annual Meeting - Agenda
DESCRIPTION:NCAHCSP Brochure 2023
URL:https://www.ncahcsp.org/event/2023-ncahcsp-annual-meeting-agenda/
LOCATION:Courtyard Marriott Carolina Beach Oceanfront\, 100 Charlotte Avenue\, Carolina Beach\, NC\, United States
END:VEVENT
BEGIN:VEVENT
DTSTART;TZID=America/New_York:20230416T080000
DTEND;TZID=America/New_York:20230416T170000
DTSTAMP:20260421T082047
CREATED:20230416T123811Z
LAST-MODIFIED:20230416T123811Z
UID:968-1681632000-1681664400@www.ncahcsp.org
SUMMARY:2023 HSPA Annual Meeting
DESCRIPTION:2023 NCAHCSP Annual meeting April 16 – 18\, 2023.  Click link below for brochure and details!! \n  \nNCAHCSP Brochure 2023
URL:https://www.ncahcsp.org/event/2023-hspa-annual-meeting/
LOCATION:NC
END:VEVENT
END:VCALENDAR