
BEGIN:VCALENDAR
VERSION:2.0
PRODID:-//NCAHCSP - ECPv6.15.20//NONSGML v1.0//EN
CALSCALE:GREGORIAN
METHOD:PUBLISH
X-WR-CALNAME:NCAHCSP
X-ORIGINAL-URL:https://www.ncahcsp.org
X-WR-CALDESC:Events for NCAHCSP
REFRESH-INTERVAL;VALUE=DURATION:PT1H
X-Robots-Tag:noindex
X-PUBLISHED-TTL:PT1H
BEGIN:VTIMEZONE
TZID:America/New_York
BEGIN:DAYLIGHT
TZOFFSETFROM:-0500
TZOFFSETTO:-0400
TZNAME:EDT
DTSTART:20250309T070000
END:DAYLIGHT
BEGIN:STANDARD
TZOFFSETFROM:-0400
TZOFFSETTO:-0500
TZNAME:EST
DTSTART:20251102T060000
END:STANDARD
BEGIN:DAYLIGHT
TZOFFSETFROM:-0500
TZOFFSETTO:-0400
TZNAME:EDT
DTSTART:20260308T070000
END:DAYLIGHT
BEGIN:STANDARD
TZOFFSETFROM:-0400
TZOFFSETTO:-0500
TZNAME:EST
DTSTART:20261101T060000
END:STANDARD
BEGIN:DAYLIGHT
TZOFFSETFROM:-0500
TZOFFSETTO:-0400
TZNAME:EDT
DTSTART:20270314T070000
END:DAYLIGHT
BEGIN:STANDARD
TZOFFSETFROM:-0400
TZOFFSETTO:-0500
TZNAME:EST
DTSTART:20271107T060000
END:STANDARD
END:VTIMEZONE
BEGIN:VEVENT
DTSTART;TZID=America/New_York:20260627T080000
DTEND;TZID=America/New_York:20260627T170000
DTSTAMP:20260421T055600
CREATED:20260416T171100Z
LAST-MODIFIED:20260416T172747Z
UID:1238-1782547200-1782579600@www.ncahcsp.org
SUMMARY:SAVE THE DATE!!! SUN\, STANDARDS\, & STERILITY June 27\, 2026
DESCRIPTION:                  \n\nDon’t miss this one-day event packed with fun\, education\, and networking opportunities. Attendees can earn 6–7 CEUs while enjoying a variety of informative sessions and connecting with colleagues from across the state. Be sure to visit our vendor fair to discover the latest in products and services.\n\n \n\nIt’s a great way to learn\, grow\, and network—all in one day. We hope to see you there!
URL:https://www.ncahcsp.org/event/save-the-date-sun-standards-sterility-june-27-2026/
LOCATION:wake med Cary\, 1900 Kildaire Farm Road\, Cary\, NC\, United States
END:VEVENT
END:VCALENDAR